BEGIN:VCALENDAR
VERSION:2.0
PRODID:-//TerapiSomVirker - ECPv6.15.20//NONSGML v1.0//EN
CALSCALE:GREGORIAN
METHOD:PUBLISH
X-WR-CALNAME:TerapiSomVirker
X-ORIGINAL-URL:https://terapisomvirker.no
X-WR-CALDESC:Arrangement for TerapiSomVirker
REFRESH-INTERVAL;VALUE=DURATION:PT1H
X-Robots-Tag:noindex
X-PUBLISHED-TTL:PT1H
BEGIN:VTIMEZONE
TZID:Europe/Oslo
BEGIN:DAYLIGHT
TZOFFSETFROM:+0100
TZOFFSETTO:+0200
TZNAME:CEST
DTSTART:20220327T010000
END:DAYLIGHT
BEGIN:STANDARD
TZOFFSETFROM:+0200
TZOFFSETTO:+0100
TZNAME:CET
DTSTART:20221030T010000
END:STANDARD
BEGIN:DAYLIGHT
TZOFFSETFROM:+0100
TZOFFSETTO:+0200
TZNAME:CEST
DTSTART:20230326T010000
END:DAYLIGHT
BEGIN:STANDARD
TZOFFSETFROM:+0200
TZOFFSETTO:+0100
TZNAME:CET
DTSTART:20231029T010000
END:STANDARD
BEGIN:DAYLIGHT
TZOFFSETFROM:+0100
TZOFFSETTO:+0200
TZNAME:CEST
DTSTART:20240331T010000
END:DAYLIGHT
BEGIN:STANDARD
TZOFFSETFROM:+0200
TZOFFSETTO:+0100
TZNAME:CET
DTSTART:20241027T010000
END:STANDARD
BEGIN:DAYLIGHT
TZOFFSETFROM:+0100
TZOFFSETTO:+0200
TZNAME:CEST
DTSTART:20250330T010000
END:DAYLIGHT
BEGIN:STANDARD
TZOFFSETFROM:+0200
TZOFFSETTO:+0100
TZNAME:CET
DTSTART:20251026T010000
END:STANDARD
END:VTIMEZONE
BEGIN:VEVENT
DTSTART;TZID=Europe/Oslo:20240115T093000
DTEND;TZID=Europe/Oslo:20240216T150000
DTSTAMP:20260420T232036
CREATED:20170926T114547Z
LAST-MODIFIED:20231025T133304Z
UID:272-1705311000-1708095600@terapisomvirker.no
SUMMARY:2-dagers FYSISK KURS i Asker: Ta Kontroll over Følelsene Dine - Spesialpris tidlig påmelding!
DESCRIPTION:Tid: 15-16. januar 2024.\nSted: Nesbruveien 75\, Asker\nPris for de første 8 som melder seg på: kr. 2.750 for begge dager inkl. alt kursmateriell og diplom. (Pris er deretter: kr. 3.900)\n\n\nHva handler kurset om?\n\nDu er som alle andre skapninger i naturen skapt for å dekke behov – og du har fått et varslingssystem som forteller deg når noen av disse ikke er dekket. Dette kurset handler om å forstå og bruke bedre dette varslingssystemet. TerapiSomVirker har som mål å presentere et kompakt kurs som strekker seg over 2 dager med hovedfokus på hvordan det er mulig å jobbe med våre mest vanlige følelser. Dette satt inn i en kontekst hvor hypnose (selvhypnose) også var en tilnærmingsmåte. \n\nEt av del-målene med å jobbe med følelser har vært å vise deg hvordan det er mulig å jobbe med spesielt med avhengighet og distraksjonsatferd\, men verktøyet gjør deg mye bedre på å forstå følelser generelt. Og med det utgangspunktet er mye av kursets innhold hentet fra reelle terapiforløp og enkeltepisoder fra terapipraksisen min. \n\nÅ ta kontroll over og bruke følelser har jeg spesialisert meg på og lært om i over 22 år i min praksis\, i stor grad er kursinnholdet utprøvd gjennom over 23.000 klienttimer\, som igjen utgjør vår erfaringsplattform. Noen av disse erfaringene ønsker vi å dele med deg over disse 2 spennende dagene! \nNok et mål for oss er å presentere dette i en form og med et innhold som både ga deg den teoretiske OG den praktiske forankringen. Nok til at du umiddelbart kan benytte det videre i ditt personlige arbeid\, eller i din terapipraksis – og det for all fremtid! \nFortrinnsvis har vi benyttet oss av det som du kjenner som de fine norske termene ”learning-by-doing” og ”step-by-step”. Hva betyr det? Jo\, det betyr at vi organiserte dette kurset som en workshop hvor du har fått være med å prøve ut\, eksperimentere\, leke litt med ditt eget og de andre deltakernes egne utfordringer i livet. Kall de gjerne ”stopperne” i livet ditt\, eller med andre ord: Det som hindrer deg i å gjøre det du vet du både kan og vil. \nVelkommen på kurs – hilsen Remi Marents og Petrus Siposson \n\n\nTKF er mitt mest populære kurs som er oppdatert og utvidet nå i 2023. Det finnes INGEN dårlige følelser ! På dag 1 lærer du det kognitive kartet over hva de 8 ulike følelsene betyr\, og en enkel 1-2-3 egencoaching metode for å endre på hver enkelt. På dag 2 får du et komplett kurs i selvhypnose som brukes for å ta dag1 til “the next level” – og for å klare selvhypnose så lærer jeg deg å hypnotisere andre også!\n\n\n\nVil du være med ?\nReserver plassen som din ved  å trykke “DELTAR” under – og så får du en egen link med spesialprisen og hele kursmaterialet som du kan begynne å kikke i….
URL:https://terapisomvirker.no/event/tkfjanuar24/
LOCATION:Nesbruveien 75\, Nesbruveien 75\, Rom B307\, Asker\, 1394\, Norge
CATEGORIES:Kurs og hendelser,Personal,Selvutvikling
ATTACH;FMTTYPE=image/png:https://terapisomvirker.no/wp-content/uploads/2017/09/bookart-TKF.png
ORGANIZER;CN="Remi Marents":MAILTO:remi@marents.no
END:VEVENT
BEGIN:VEVENT
DTSTART;TZID=Europe/Oslo:20231218T090000
DTEND;TZID=Europe/Oslo:20231220T140000
DTSTAMP:20260420T232036
CREATED:20231020T115911Z
LAST-MODIFIED:20231024T120855Z
UID:2614-1702890000-1703080800@terapisomvirker.no
SUMMARY:FOBI Intensivbehandling på bare 3 dager: 18.-20. desember
DESCRIPTION:Ta kontakt for informasjon og en uforpliktende kartleggingssamtale for å finne ut om dette er noe for deg! \nDenne siden er laget for å vise når vi arrangerer intensivbehandlingene – og du kan melde deg på ved å trykke “DELTAR” knappen under – men det skal du ikke gjøre før du har snakket med en av oss\, og er sikker på at intensivprogrammet passer for deg. \nVi har egne websider som forteller mye om intensivbehandlingen\, har ulike videoer om hvordan det foregår osv. – du finner den på: AngstBehandling.no \nDet er kun 4 plasser\, og du skal kunne se om det er ledig plass under.\nHar du spørsmål\, eller vil du snakke med Remi Marents om dette passer for deg\, så kan du booke en gratis kartleggingssamtale  ved å klikke her: Book Kartleggingssamtale
URL:https://terapisomvirker.no/event/intensiv-fobi/
LOCATION:Nesbruveien 75\, Nesbruveien 75\, Rom B307\, Asker\, 1394\, Norge
CATEGORIES:Personal
ATTACH;FMTTYPE=image/png:https://terapisomvirker.no/wp-content/uploads/2023/09/hvordan-virker-fobier-thumb.png
ORGANIZER;CN="Remi Marents":MAILTO:remi@marents.no
END:VEVENT
BEGIN:VEVENT
DTSTART;TZID=Europe/Oslo:20231211T090000
DTEND;TZID=Europe/Oslo:20231214T140000
DTSTAMP:20260420T232036
CREATED:20170926T115030Z
LAST-MODIFIED:20231024T121045Z
UID:276-1702285200-1702562400@terapisomvirker.no
SUMMARY:Panikkangst Intensivbehandling på 4 dager: 11. til 14. desember
DESCRIPTION:Ta kontakt for informasjon og en uforpliktende kartleggingssamtale for å finne ut om dette er noe for deg! Denne siden er laget for å vise når vi arrangerer intensivbehandlingene – og du kan melde deg på ved å trykke “DELTAR” knappen under – men det skal du ikke gjøre før du har snakket med en av oss\, og er sikker på at intensivprogrammet passer for deg. \nVi har egne websider som forteller mye om intensivbehandlingen\, har ulike videoer om hvordan det foregår osv. – du finner den på: AngstBehandling.no \nDet er kun 4 plasser\, og du skal kunne se om det er ledig plass under.\nHar du spørsmål\, eller vil du snakke med Remi Marents om dette passer for deg\, så kan du booke en gratis kartleggingssamtale  ved å klikke her: Book Kartleggingssamtale
URL:https://terapisomvirker.no/event/intensivpa/
LOCATION:Nesbruveien 75\, Nesbruveien 75\, Rom B307\, Asker\, 1394\, Norge
CATEGORIES:Personal
ATTACH;FMTTYPE=image/png:https://terapisomvirker.no/wp-content/uploads/2023/09/hva-er-et-angstanfall-thumb.png
ORGANIZER;CN="Remi Marents":MAILTO:remi@marents.no
END:VEVENT
BEGIN:VEVENT
DTSTART;TZID=Europe/Oslo:20231024T080000
DTEND;TZID=Europe/Oslo:20231024T170000
DTSTAMP:20260420T232036
CREATED:20231024T132556Z
LAST-MODIFIED:20231024T132556Z
UID:2693-1698134400-1698166800@terapisomvirker.no
SUMMARY:Åpent motivasjonskurs: Hvis jeg kunne gjort hva som helst...
DESCRIPTION:Dette er en sniktitt på vårt neste motivasjonskurs!
URL:https://terapisomvirker.no/event/apent-motivasjonskurs-hvis-jeg-kunne-gjort-hva-som-helst/
END:VEVENT
END:VCALENDAR